BEGIN:VCALENDAR
VERSION:2.0
PRODID:-//helga.fi - ECPv6.15.20//NONSGML v1.0//EN
CALSCALE:GREGORIAN
METHOD:PUBLISH
X-ORIGINAL-URL:https://helga.fi/en/
X-WR-CALDESC:Events for helga.fi
REFRESH-INTERVAL;VALUE=DURATION:PT1H
X-Robots-Tag:noindex
X-PUBLISHED-TTL:PT1H
BEGIN:VTIMEZONE
TZID:Europe/Helsinki
BEGIN:DAYLIGHT
TZOFFSETFROM:+0200
TZOFFSETTO:+0300
TZNAME:EEST
DTSTART:20240331T010000
END:DAYLIGHT
BEGIN:STANDARD
TZOFFSETFROM:+0300
TZOFFSETTO:+0200
TZNAME:EET
DTSTART:20241027T010000
END:STANDARD
BEGIN:DAYLIGHT
TZOFFSETFROM:+0200
TZOFFSETTO:+0300
TZNAME:EEST
DTSTART:20250330T010000
END:DAYLIGHT
BEGIN:STANDARD
TZOFFSETFROM:+0300
TZOFFSETTO:+0200
TZNAME:EET
DTSTART:20251026T010000
END:STANDARD
BEGIN:DAYLIGHT
TZOFFSETFROM:+0200
TZOFFSETTO:+0300
TZNAME:EEST
DTSTART:20260329T010000
END:DAYLIGHT
BEGIN:STANDARD
TZOFFSETFROM:+0300
TZOFFSETTO:+0200
TZNAME:EET
DTSTART:20261025T010000
END:STANDARD
END:VTIMEZONE
BEGIN:VEVENT
DTSTART;TZID=Europe/Helsinki:20250205T160000
DTEND;TZID=Europe/Helsinki:20250205T210000
DTSTAMP:20260423T235638
CREATED:20250115T070148Z
LAST-MODIFIED:20250115T070148Z
UID:10000591-1738771200-1738789200@helga.fi
SUMMARY:Freshers Day
DESCRIPTION:I’m not content with a cage anymore\nI live in a zoo and escape in the summertime\nAnd when I bounce\, life is pretty again\nShow me how it’s done around here\nI’m sure you wouldn’t get along\nShow me life\nThis zoo was not built to last. \nSings the Finnish rap artist Jambo (Lyrics are freely translated) And what does this have to do with anything? Well Freshers’ Day spring 2025 theme is ZOO! \nDo not stay in the cage 5.2.2025 come with us to the checkpointour with your freshers’ group! Freshers’ Day is a checkpoint tour organized for new students\, where you can get to know your new student friends\, student associations\, the student union and many other actors that you need during your studies!\nCheckpoints consist of different group-building and fun tasks\, for which you get points. As a dress code\, we recommend student overalls + theme dressing! \nAll the groups participating in the freshers’ Day are also automatically included in the competition\, where the groups with the best scores\, the best clothes and the best group spirit are awarded. \nTickets from here: https://kide.app/events/891e93ec-8443-4a0e-ae34-1ebe3108e339  \nWhat is Freshers day? Read more about the concept here: https://helga.fi/en/services/events/freshers-day/
URL:https://helga.fi/en/event/freshers-day/
ATTACH;FMTTYPE=image/png:https://helga.fi/wp-content/uploads/2025/01/Helga_Fuksiaiset_050225_Maxine_Kide-FB.png
END:VEVENT
END:VCALENDAR