BEGIN:VCALENDAR
VERSION:2.0
PRODID:-//helga.fi - ECPv6.15.20//NONSGML v1.0//EN
CALSCALE:GREGORIAN
METHOD:PUBLISH
X-WR-CALNAME:helga.fi
X-ORIGINAL-URL:https://helga.fi/en/
X-WR-CALDESC:Events for helga.fi
REFRESH-INTERVAL;VALUE=DURATION:PT1H
X-Robots-Tag:noindex
X-PUBLISHED-TTL:PT1H
BEGIN:VTIMEZONE
TZID:Europe/Helsinki
BEGIN:DAYLIGHT
TZOFFSETFROM:+0200
TZOFFSETTO:+0300
TZNAME:EEST
DTSTART:20240331T010000
END:DAYLIGHT
BEGIN:STANDARD
TZOFFSETFROM:+0300
TZOFFSETTO:+0200
TZNAME:EET
DTSTART:20241027T010000
END:STANDARD
BEGIN:DAYLIGHT
TZOFFSETFROM:+0200
TZOFFSETTO:+0300
TZNAME:EEST
DTSTART:20250330T010000
END:DAYLIGHT
BEGIN:STANDARD
TZOFFSETFROM:+0300
TZOFFSETTO:+0200
TZNAME:EET
DTSTART:20251026T010000
END:STANDARD
BEGIN:DAYLIGHT
TZOFFSETFROM:+0200
TZOFFSETTO:+0300
TZNAME:EEST
DTSTART:20260329T010000
END:DAYLIGHT
BEGIN:STANDARD
TZOFFSETFROM:+0300
TZOFFSETTO:+0200
TZNAME:EET
DTSTART:20261025T010000
END:STANDARD
END:VTIMEZONE
BEGIN:VEVENT
DTSTART;TZID=Europe/Helsinki:20250416T153000
DTEND;TZID=Europe/Helsinki:20250416T220000
DTSTAMP:20260423T131728
CREATED:20250326T071436Z
LAST-MODIFIED:20250326T071436Z
UID:10000599-1744817400-1744840800@helga.fi
SUMMARY:LVL UP Appro
DESCRIPTION:Welcome to kick off Helga’s Wappu with the legendary LVL UP Appro! Voted Helga’s best Wappu event for two years in a row\, this appro combines the best aspects of checkpoint challenges and a bar crawl – and this year\, the theme is The Sims! Expect three exciting rounds\, three overall patches\, and\, of course\, an amazing afterparty at Camping. Grab your friends and embark on an adventure! \nWHAT: LVL UP Appro – An immersive checkpoint/bar crawl and the kickoff for Helga’s Wappu\nWHEN: Wednesday\, April 16\, 2025\, from 15:30 to 22:00\nWHERE: Vanha Kirkkopuisto / Kamppi-Punavuori area\nPRICE: Member/Helga’s Wappu Pass €8\, non-member €12\nAFTERPARTY: At Camping from 22:00 onwards
URL:https://helga.fi/en/event/lvl-up-appro/
ATTACH;FMTTYPE=image/png:https://helga.fi/wp-content/uploads/2025/03/ig-post-1-080-x-1-350-px.png
END:VEVENT
BEGIN:VEVENT
DTSTART;TZID=Europe/Helsinki:20250417T160000
DTEND;TZID=Europe/Helsinki:20250417T220000
DTSTAMP:20260423T131728
CREATED:20250326T071713Z
LAST-MODIFIED:20250326T071757Z
UID:10000600-1744905600-1744927200@helga.fi
SUMMARY:IDS BANANA CARNIVAL
DESCRIPTION:We’re turning up the energy with an open-air party featuring DJ Banana Man + Friend! Get ready to dance under the sky and keep the Vappu festivities going with the best beats and vibes. \nBut that’s not all… before the party kicks off\, get your team together and take on a day full of checkpoint challenges. The best teams will walk away with amazing prizes!  Whether you’re here to compete\, dance\, or just soak in the atmosphere\, one thing’s for sure\, this is the Vappu event you don’t want to miss. \nEVENT DETAILS \nWhere: Alppipuisto \nWhen: 17th April\, 16:00 – 22:00 \nMore info: @ids_helga Instagram and on Kide.app
URL:https://helga.fi/en/event/ids-banana-carnival-2/
ATTACH;FMTTYPE=image/jpeg:https://helga.fi/wp-content/uploads/2025/03/IDS-Banana-Carnival-Post-Helga.jpg
END:VEVENT
BEGIN:VEVENT
DTSTART;TZID=Europe/Helsinki:20250419T120000
DTEND;TZID=Europe/Helsinki:20250419T160000
DTSTAMP:20260423T131728
CREATED:20250326T073030Z
LAST-MODIFIED:20250326T073030Z
UID:10000609-1745064000-1745078400@helga.fi
SUMMARY:Fine - Game On
DESCRIPTION:VAPPU OLYMPICS: GAME ON!\nNever heard of Kan Jam? No clue what Spike Ball is? Perfect – ‘Game On’ is for you! \nJoin this action-packed 2vs2 tournament at Vappu Olympics where being new to the games is part of the fun. Team up with a friend and discover exciting yard games together! We’ll teach you everything you need to know about Kan Jam\, Corn Hole\, and Spike Ball right on the spot. No experience needed\, just bring your enthusiasm and team spirit!\n Date: April 19\, 2025\n Time: 12:00\n Location: Töölönlahden Puisto\, Helsinki\nGet ready to learn\, laugh\, and maybe even become a yard games champion! 
URL:https://helga.fi/en/event/fine-game-on/
CATEGORIES:Helga's 8 Day May Day
ATTACH;FMTTYPE=image/png:https://helga.fi/wp-content/uploads/2025/03/Game-On-Fine-Helga.png
END:VEVENT
BEGIN:VEVENT
DTSTART;TZID=Europe/Helsinki:20250420T150000
DTEND;TZID=Europe/Helsinki:20250420T210000
DTSTAMP:20260423T131728
CREATED:20250326T072201Z
LAST-MODIFIED:20250326T072201Z
UID:10000603-1745161200-1745182800@helga.fi
SUMMARY:Sture ry - Kallionkorkkaus
DESCRIPTION:Kallion Korkkaus is a free event held in Dallapénpuisto\, Kallio! Grab your friends and come enjoy the spring on April 20th with others.
URL:https://helga.fi/en/event/sture-ry-kallionkorkkaus/
CATEGORIES:Helga's 8 Day May Day
ATTACH;FMTTYPE=image/png:https://helga.fi/wp-content/uploads/2025/03/2.png
END:VEVENT
END:VCALENDAR