BEGIN:VCALENDAR
VERSION:2.0
PRODID:-//helga.fi - ECPv6.15.20//NONSGML v1.0//EN
CALSCALE:GREGORIAN
METHOD:PUBLISH
X-WR-CALNAME:helga.fi
X-ORIGINAL-URL:https://helga.fi/en/
X-WR-CALDESC:Events for helga.fi
REFRESH-INTERVAL;VALUE=DURATION:PT1H
X-Robots-Tag:noindex
X-PUBLISHED-TTL:PT1H
BEGIN:VTIMEZONE
TZID:Europe/Helsinki
BEGIN:DAYLIGHT
TZOFFSETFROM:+0200
TZOFFSETTO:+0300
TZNAME:EEST
DTSTART:20240331T010000
END:DAYLIGHT
BEGIN:STANDARD
TZOFFSETFROM:+0300
TZOFFSETTO:+0200
TZNAME:EET
DTSTART:20241027T010000
END:STANDARD
BEGIN:DAYLIGHT
TZOFFSETFROM:+0200
TZOFFSETTO:+0300
TZNAME:EEST
DTSTART:20250330T010000
END:DAYLIGHT
BEGIN:STANDARD
TZOFFSETFROM:+0300
TZOFFSETTO:+0200
TZNAME:EET
DTSTART:20251026T010000
END:STANDARD
BEGIN:DAYLIGHT
TZOFFSETFROM:+0200
TZOFFSETTO:+0300
TZNAME:EEST
DTSTART:20260329T010000
END:DAYLIGHT
BEGIN:STANDARD
TZOFFSETFROM:+0300
TZOFFSETTO:+0200
TZNAME:EET
DTSTART:20261025T010000
END:STANDARD
END:VTIMEZONE
BEGIN:VEVENT
DTSTART;TZID=Europe/Helsinki:20250421T150000
DTEND;TZID=Europe/Helsinki:20250421T210000
DTSTAMP:20260423T115651
CREATED:20250326T074322Z
LAST-MODIFIED:20250326T074334Z
UID:10000614-1745247600-1745269200@helga.fi
SUMMARY:Talko ry - Mushroom Hunt
DESCRIPTION:Talko’s legendary May Day event\, Mushroom Hunt X Beerpong\, is back again! Get ready for an exciting mushroom-themed checkpoint course\, culminating in a thrilling beer pong tournament and an epic afterparty! Grab your tickets fast!
URL:https://helga.fi/en/event/talko-ry-mushroom-hunt/
CATEGORIES:Helga's 8 Day May Day
ATTACH;FMTTYPE=image/jpeg:https://helga.fi/wp-content/uploads/2025/03/MUSHROOM-HUNT-IG-FEED-2025.jpg
END:VEVENT
BEGIN:VEVENT
DTSTART;TZID=Europe/Helsinki:20250422T150000
DTEND;TZID=Europe/Helsinki:20250422T150000
DTSTAMP:20260423T115651
CREATED:20250326T073856Z
LAST-MODIFIED:20250326T073856Z
UID:10000613-1745334000-1745334000@helga.fi
SUMMARY:Pore ry - Gastro Appro
DESCRIPTION:Gastro Appro is the most delicious event during Wappu and it is taking over Helsinki once again this year! On Tuesday 22nd of April students get to go around the best restaurants in Helsinki during a pub crawl and of course enjoy the afterparty in NoName at the end of the day. The afterparty is in collaboration with KaMA Ry! The ticket prices with the afterparty are 6€ for members and Helga’s Wappupass owners and 9€ for others (Cloakroom fee not included). We also offer tickets without the after party for 5€ for members and Helga’s Wappupass holders and 8€ for others. Come enjoy the delicious offers with us!
URL:https://helga.fi/en/event/pore-ry-gastro-appro/
CATEGORIES:Helga's 8 Day May Day
ATTACH;FMTTYPE=image/png:https://helga.fi/wp-content/uploads/2025/03/Pore_GastroAppro_220425_NoName_feed.png
END:VEVENT
BEGIN:VEVENT
DTSTART;TZID=Europe/Helsinki:20250423T150000
DTEND;TZID=Europe/Helsinki:20250423T210000
DTSTAMP:20260423T115651
CREATED:20250331T101938Z
LAST-MODIFIED:20250331T101938Z
UID:10000623-1745420400-1745442000@helga.fi
SUMMARY:Coverall Babtism
DESCRIPTION:Coverall Baptism is Coming – Are You Ready? 🌊 \nJoin us for the most anticipated event of the year! Coverall Baptism is held this year in collaboration with Helga and Laureamko\, and it promises to be an unforgettable day full of fun competitions\, traditions\, and beach party vibes! 🏖️🎉 \n📅 When?\nWednesday\, April 23rd\, 2025\nTaskpoint race from 15:00–20:00\nHelga’s oath at 7:30 PM\nLaureamko’s oath at 8:00 PM\nAfterparty at Maxine’s from 21:00 onwards \n📍 Where?\nHietaniemi Beach (Hietsu) \n🎉 What’s happening?\nGather a team of 2-5 people and join The checkpoint tour where you’ll compete in fun challenges! 🎯🏆\nAfter the race\, we’ll take the coverall oath – and the bravest will dip their coveralls in the sea! 🌊🐬\nAfter the baptism\, the party continues at Maxine’s with a karaoke competition! 🎤\nThis is also the perfect chance to earn your baptized Coverall Badge\, which you’ll get by participating in the event and taking the coverall oath. 🤩😎\nIf you want to secure your spot\, get the VIP Wappupassi\, which includes entry to the Coverall Baptism\, from Kide.app! 💌\nThis is an event you don’t want to miss! Expect fun competitions\, awesome people\, and the ultimate beach party vibes. See you at Coverall Baptism! 🌞🌊💙
URL:https://helga.fi/en/event/coverall-babtism/
CATEGORIES:Helga's 8 Day May Day
ATTACH;FMTTYPE=image/png:https://helga.fi/wp-content/uploads/2025/03/IPAN-VISIO-2.png
END:VEVENT
BEGIN:VEVENT
DTSTART;TZID=Europe/Helsinki:20250424T150000
DTEND;TZID=Europe/Helsinki:20250424T210000
DTSTAMP:20260423T115651
CREATED:20250326T072341Z
LAST-MODIFIED:20250326T072341Z
UID:10000604-1745506800-1745528400@helga.fi
SUMMARY:Skuuppi ry - Fotoralli
DESCRIPTION:Skuuppi’s FOTORALLI comes again on April 24th !!\nThis year the theme of fotoralli is isms! (absolutism\, humanism etc.)\nIn the Fotoralli you use clues to find checkmarks\, and on the checkmarks you complete different tasks with your own group! Without forgetting the silly photography tasks!!\nThe Event is part of Helga’s 8 days of Wappu.\nSo get your group of 2-6 people\, and start to plan themed team costumes!
URL:https://helga.fi/en/event/skuuppi-ry-fotoralli/
CATEGORIES:Helga's 8 Day May Day
ATTACH;FMTTYPE=image/png:https://helga.fi/wp-content/uploads/2025/03/Fotoralli.png
END:VEVENT
BEGIN:VEVENT
DTSTART;TZID=Europe/Helsinki:20250425T170000
DTEND;TZID=Europe/Helsinki:20250425T210000
DTSTAMP:20260423T115651
CREATED:20250331T100853Z
LAST-MODIFIED:20250331T100853Z
UID:10000620-1745600400-1745614800@helga.fi
SUMMARY:Hepo ry - The Task Porvoo
DESCRIPTION:The Task tulee taas 25.4. uudelleen brändärttynä! 🥳 Taskissa pääset kokemaan ja tutustumaan Porvooseen erilaisten hauskojen tehtävien kautta! ✨ \nSaatat muistaa Taskin jo edellisiltä vuosilta\, mutta tapahtumaa on muokattu yhä helpommin saavutettavaksi.Tapahtuma alkaa klo. 17 ja päättyy 21 Porvoon keskustan alueella. Tervetuloa kanssamme seikkailemaan Porvooseen! 😎
URL:https://helga.fi/en/event/hepo-ry-the-task-porvoo/
CATEGORIES:Helga's 8 Day May Day
ATTACH;FMTTYPE=image/png:https://helga.fi/wp-content/uploads/2025/03/The-Task-2.0-1.png
END:VEVENT
BEGIN:VEVENT
DTSTART;TZID=Europe/Helsinki:20250426T140000
DTEND;TZID=Europe/Helsinki:20250426T200000
DTSTAMP:20260423T115651
CREATED:20250326T073550Z
LAST-MODIFIED:20250326T073550Z
UID:10000611-1745676000-1745697600@helga.fi
SUMMARY:ESN Haaga-Helia - Operation Suomenlinna
DESCRIPTION:Vappu in Danger – The Mascots Have Escaped! \nALERT! Our mischievous mascots\, Harry the Hamster (ESN Haaga-Helia) and Robert Junior the Shrimp (ESN Uni Helsinki)\, have gone rogue! They’ve taken over Suomenlinna\, setting up obstacles\, tricky checkpoints\, and cryptic clues to throw us off their trail. \nYour mission? Form your squad\, take on the challenges\, and track them down before they ruin Vappu for everyone! Will you be the heroes who restore order\, or will Harry and Robert Junior outsmart us all? \nSuit up\, gather your team\, and let’s save Vappu! \nDate: Saturday\, 26.4.2025\nLocation: Suomenlinna Sea Fortress\nTime: 14:00 – 20:00\nAfterparty: TBA\nTickets & Pricing:\n•⁠  ⁠ESN Member (Haaga-Helia / Uni Helsinki) / Wappu Pass Holder: €4 \n\n•⁠  ⁠Non-member: €8 \nAll tickets include:\nEvent participation\nWappu Pass stamp\nExclusive Operation Suomenlinna patch\nEntry to the afterparty (TBA) \nDress code: Coveralls\nTickets are limited—secure yours now!\nFollow us for updates: @esnhaagahelia @esnunihelsinki
URL:https://helga.fi/en/event/esn-haaga-helia-operation-suomenlinna/
CATEGORIES:Helga's 8 Day May Day
ATTACH;FMTTYPE=image/png:https://helga.fi/wp-content/uploads/2025/03/Untitled-Instagram-Post.png
END:VEVENT
BEGIN:VEVENT
DTSTART;TZID=Europe/Helsinki:20250427T150000
DTEND;TZID=Europe/Helsinki:20250427T210000
DTSTAMP:20260423T115651
CREATED:20250326T072653Z
LAST-MODIFIED:20250326T072704Z
UID:10000606-1745766000-1745787600@helga.fi
SUMMARY:HSOY ry - Paluu Pelikentille
DESCRIPTION:It’s time to break away from the everyday life of an adult (student) for a while and return to childhood. Wake up your inner child and come with us to play your favourite childhood games!\n\nhttps://kide.app/events/8a3d802e-f33a-43b8-bba6-f922b83bdeb3
URL:https://helga.fi/en/event/hsoy-ry-paluu-pelikentille/
CATEGORIES:Helga's 8 Day May Day
ATTACH;FMTTYPE=image/jpeg:https://helga.fi/wp-content/uploads/2025/03/Pihapelit-IG-Feed.jpg
END:VEVENT
END:VCALENDAR