BEGIN:VCALENDAR
VERSION:2.0
PRODID:-//helga.fi - ECPv6.15.20//NONSGML v1.0//EN
CALSCALE:GREGORIAN
METHOD:PUBLISH
X-WR-CALNAME:helga.fi
X-ORIGINAL-URL:https://helga.fi/en/
X-WR-CALDESC:Events for helga.fi
REFRESH-INTERVAL;VALUE=DURATION:PT1H
X-Robots-Tag:noindex
X-PUBLISHED-TTL:PT1H
BEGIN:VTIMEZONE
TZID:Europe/Helsinki
BEGIN:DAYLIGHT
TZOFFSETFROM:+0200
TZOFFSETTO:+0300
TZNAME:EEST
DTSTART:20250330T010000
END:DAYLIGHT
BEGIN:STANDARD
TZOFFSETFROM:+0300
TZOFFSETTO:+0200
TZNAME:EET
DTSTART:20251026T010000
END:STANDARD
BEGIN:DAYLIGHT
TZOFFSETFROM:+0200
TZOFFSETTO:+0300
TZNAME:EEST
DTSTART:20260329T010000
END:DAYLIGHT
BEGIN:STANDARD
TZOFFSETFROM:+0300
TZOFFSETTO:+0200
TZNAME:EET
DTSTART:20261025T010000
END:STANDARD
BEGIN:DAYLIGHT
TZOFFSETFROM:+0200
TZOFFSETTO:+0300
TZNAME:EEST
DTSTART:20270328T010000
END:DAYLIGHT
BEGIN:STANDARD
TZOFFSETFROM:+0300
TZOFFSETTO:+0200
TZNAME:EET
DTSTART:20271031T010000
END:STANDARD
END:VTIMEZONE
BEGIN:VEVENT
DTSTART;TZID=Europe/Helsinki:20260204T160000
DTEND;TZID=Europe/Helsinki:20260204T210000
DTSTAMP:20260422T223329
CREATED:20260122T123029Z
LAST-MODIFIED:20260122T123250Z
UID:10000627-1770220800-1770238800@helga.fi
SUMMARY:Freshersday 2026
DESCRIPTION:The most fun event for freshers is back\, and the theme is Kid’s Movies! \nSo start preparing with your fresher group for the theme\, because on February 4th\, 2026\, you’ll get to immerse yourselves in the most nostalgic movies in the form of a check point round. Freshers’ day is a check point round organized for new students\, where you’ll get to know your new student friends\, student associations\, the student union\, and many other actors you’ll need during your studies!\nAt the checkpoints\, you’ll complete various fun group tasks to earn points. For the dress code\, we recommend student overalls + theme-based costumes! And don’t forget warm clothes underneath. \nAll groups participating in the Freshman Party are also automatically entered into a competition where prizes are awarded to the groups with the best points from the check point round\, the best costumes\, and the best team spirit. \nTickets available on Kide.app: https://kide.app/events/e72d0cb9-bccd-4797-a635-7b3baec5200c \nMore info about the Freshers day here: https://helga.fi/en/services/events/freshers-day/
URL:https://helga.fi/en/event/freshersday-2026/
ATTACH;FMTTYPE=image/png:https://helga.fi/wp-content/uploads/2026/01/IMG_5693.png
END:VEVENT
END:VCALENDAR